BEGIN:VCALENDAR
VERSION:2.0
PRODID:-//AudioTheme 2.3.7
BEGIN:VEVENT
UID:http://annikajonsson.de/?post_type=audiotheme_gig&#038;p=130
URL:https://annikajonsson.com/shows/abschlusspruefung/
DTSTART;TZID=GMT:20150209T190000
SUMMARY:Abschlussprüfung
DESCRIPTION:Trallskogen
LOCATION:HfM Saar\, Bismarckstraße 1\, Saarbrücken\, \, Deutschland\, Bismarckstraße 1
END:VEVENT
END:VCALENDAR
