BEGIN:VCALENDAR
VERSION:2.0
PRODID:-//AudioTheme 2.3.7
BEGIN:VEVENT
UID:http://annikajonsson.de/?post_type=audiotheme_gig&#038;p=1496
URL:https://annikajonsson.com/shows/adventslesung/
DTSTART;TZID=GMT:20181208T170000
SUMMARY:Adventslesung
DESCRIPTION:Solo
LOCATION:Überzwerg Theater\, Erich Kästner Platz 1\, Saarbrücken\, \, Deutschland\, 66119
END:VEVENT
END:VCALENDAR
