BEGIN:VCALENDAR
VERSION:2.0
PRODID:-//AudioTheme 2.3.7
BEGIN:VEVENT
UID:http://annikajonsson.de/?post_type=audiotheme_gig&#038;p=944
URL:https://annikajonsson.com/shows/die-jungen-wilden/
DTSTART;TZID=GMT:20150306T190000
SUMMARY:Die Jungen Wilden
DESCRIPTION:Nika & Karambolage
LOCATION:SR\, Funkhaus Halberg\, Saarbrücken\, \, 66100
END:VEVENT
END:VCALENDAR
