BEGIN:VCALENDAR
VERSION:2.0
PRODID:-//AudioTheme 2.3.7
BEGIN:VEVENT
UID:http://annikajonsson.de/?post_type=audiotheme_gig&#038;p=1718
URL:https://annikajonsson.com/shows/dreisbach-rockt-die-schleife/
DTSTART;TZID=GMT:20230528T160000
SUMMARY:Dreisbach rockt die Schleife
DESCRIPTION:Nika Solo
LOCATION:Glashaus Saarschleife\, Nohner Str. 12\, Mettlach\, \, DE\, 66693
END:VEVENT
END:VCALENDAR
