BEGIN:VCALENDAR
VERSION:2.0
PRODID:-//AudioTheme 2.3.7
BEGIN:VEVENT
UID:urn:uuid:4a211a20-a6b4-443e-8876-60e541ce5486
URL:https://annikajonsson.com/shows/hinterwaldfestival-2/
DTSTART;TZID=GMT:20230825T220000
SUMMARY:Hinterwaldfestival
DESCRIPTION:Nika Solo
LOCATION:Köllerbacher Hinterwaldfestival\, Am Jungenwald 1\, Püttlingen\, \, Deutschland\, 66346
END:VEVENT
END:VCALENDAR
