BEGIN:VCALENDAR
VERSION:2.0
PRODID:-//AudioTheme 2.3.7
BEGIN:VEVENT
UID:http://annikajonsson.de/?post_type=audiotheme_gig&#038;p=946
URL:https://annikajonsson.com/shows/la-boheme/
DTSTART;TZID=GMT:20141128T190000
SUMMARY:La Bohéme
DESCRIPTION:Nika & Karambolage
LOCATION:Synop\, Mainzer Str. 1\, Saarbrücken\, \, Deutschland\, 66111
END:VEVENT
END:VCALENDAR
