BEGIN:VCALENDAR
VERSION:2.0
PRODID:-//AudioTheme 2.3.7
BEGIN:VEVENT
UID:urn:uuid:350a33cf-602a-4197-ae04-2a32bcec1407
URL:https://annikajonsson.com/shows/midsommar-vibes-2/
DTSTART;TZID=GMT:20260620T133000
SUMMARY:Midsommar Vibes
DESCRIPTION:Nika Solo bei "Midsommar Vibes"
LOCATION:Freies Kulturzentrum Maschinenfabrik\, Olgastraße 45\, Heilbronn\, \, 74072
END:VEVENT
END:VCALENDAR
