BEGIN:VCALENDAR
VERSION:2.0
PRODID:-//AudioTheme 2.3.7
BEGIN:VEVENT
UID:http://annikajonsson.de/?post_type=audiotheme_gig&#038;p=170
URL:https://annikajonsson.com/shows/rundgang-der-hbk/
DTSTART;TZID=GMT:20150206T190000
SUMMARY:Rundgang der HBK
DESCRIPTION:Rotationen
LOCATION:HBKsaar\, Keplerstraße 3-5\, Saarbrücken\, \, Deutschland\, 66117
END:VEVENT
END:VCALENDAR
