BEGIN:VCALENDAR
VERSION:2.0
PRODID:-//AudioTheme 2.3.7
BEGIN:VEVENT
UID:http://annikajonsson.de/?post_type=audiotheme_gig&#038;p=134
URL:https://annikajonsson.com/shows/semesterabschlusskonzert-1/
DTSTART;TZID=GMT:20150203T180000
SUMMARY:Semesterabschlusskonzert
DESCRIPTION:Aaron Parks Coverband
LOCATION:HfM Saar\, Bismarckstraße 1\, Saarbrücken\, \, Deutschland\, Bismarckstraße 1
END:VEVENT
END:VCALENDAR
