BEGIN:VCALENDAR
VERSION:2.0
PRODID:-//AudioTheme 2.3.7
BEGIN:VEVENT
UID:urn:uuid:d113dff1-0e16-42a2-9796-e85a28a5caa1
URL:https://annikajonsson.com/shows/sternschnuppenkonzert/
DTSTART;TZID=GMT:20230812T183000
SUMMARY:Sternschnuppenkonzert
DESCRIPTION:Nika Solo
LOCATION:Campingplatz Losheim am See\, Zum Stausee 210\, Losheim am See\, \, DE\, 66679
END:VEVENT
END:VCALENDAR
