BEGIN:VCALENDAR
VERSION:2.0
PRODID:-//AudioTheme 2.3.7
BEGIN:VEVENT
UID:http://annikajonsson.de/?post_type=audiotheme_gig&#038;p=1650
URL:https://annikajonsson.com/shows/trallskogen-ein-musikmaerchen/
DTSTART;TZID=GMT:20230121T183000
SUMMARY:Trallskogen - ein Musikmärchen
DESCRIPTION:Trallskogen
LOCATION:Garelly Haus Saarbrücken\, Eisenbahnstraße 14a\, Saarbrücken\, \, Deutschland\, 66111
END:VEVENT
END:VCALENDAR
