BEGIN:VCALENDAR
VERSION:2.0
PRODID:-//AudioTheme 2.3.7
BEGIN:VEVENT
UID:http://annikajonsson.de/?post_type=audiotheme_gig&#038;p=1720
URL:https://annikajonsson.com/shows/vegan-fantasy-fair/
DTSTART;TZID=GMT:20230715T110000
SUMMARY:Vegan Fantasy Fair
DESCRIPTION:Trallskogen
LOCATION:Vegan Fantasy Fair\, Schlosspark Geislautern\, Völklingen\, \, 66333
END:VEVENT
END:VCALENDAR
